BEGIN:VCALENDAR
VERSION:2.0
PRODID:SchoolNow
CALSCALE:GREGORIAN
BEGIN:VEVENT
UID:1528f29c-eb9d-11ee-92cf-0a58a9feac02
DTSTAMP:20240326T181719Z
SUMMARY:Open Swim (5-23-24)
URL;VALUE=URI:https://www.liverpool.k12.ny.us/departments/athletics/calenda
 r/5637844/open-swim-5-23-24
DTSTART:20240523T230000Z
DTEND:20240524T010000Z
END:VEVENT
END:VCALENDAR
