BEGIN:VCALENDAR
VERSION:2.0
PRODID:SchoolNow
CALSCALE:GREGORIAN
BEGIN:VEVENT
UID:387e6470-eb9d-11ee-b17c-0a58a9feac02
DTSTAMP:20240326T181818Z
SUMMARY:Open Swim (5-30-24)
URL;VALUE=URI:https://www.liverpool.k12.ny.us/departments/athletics/calenda
 r/5637845/open-swim-5-30-24
DTSTART:20240530T230000Z
DTEND:20240531T010000Z
END:VEVENT
END:VCALENDAR
