BEGIN:VCALENDAR
VERSION:2.0
PRODID:SchoolNow
CALSCALE:GREGORIAN
BEGIN:VEVENT
UID:180cf8a4-7523-11ef-b7cd-0afffa95cd2d
DTSTAMP:20240917T192019Z
SUMMARY:Open Swim (10-3-24)
URL;VALUE=URI:https://www.liverpool.k12.ny.us/departments/athletics/calenda
 r/6625426/open-swim-10-3-24
DTSTART:20241003T224500Z
DTEND:20241004T004500Z
END:VEVENT
END:VCALENDAR
