BEGIN:VCALENDAR
VERSION:2.0
PRODID:SchoolNow
CALSCALE:GREGORIAN
BEGIN:VEVENT
UID:49639926-7523-11ef-a95b-0299ca2b52a1
DTSTAMP:20240917T192036Z
SUMMARY:Open Swim (10-5-24)
URL;VALUE=URI:https://www.liverpool.k12.ny.us/departments/athletics/calenda
 r/6625427/open-swim-10-5-24
DTSTART:20241005T200000Z
DTEND:20241005T220000Z
END:VEVENT
END:VCALENDAR
