BEGIN:VCALENDAR
VERSION:2.0
PRODID:SchoolNow
CALSCALE:GREGORIAN
BEGIN:VEVENT
UID:616ba32e-7523-11ef-905e-0a58a9feac02
DTSTAMP:20240917T192047Z
SUMMARY:Open Swim (10-10-24)
URL;VALUE=URI:https://www.liverpool.k12.ny.us/departments/athletics/calenda
 r/6625428/open-swim-10-10-24
DTSTART:20241010T224500Z
DTEND:20241011T004500Z
END:VEVENT
END:VCALENDAR
