BEGIN:VCALENDAR
VERSION:2.0
PRODID:SchoolNow
CALSCALE:GREGORIAN
BEGIN:VEVENT
UID:7d234d24-7523-11ef-a1e0-0299ca2b52a1
DTSTAMP:20240917T192058Z
SUMMARY:Open Swim (10-12-24)
URL;VALUE=URI:https://www.liverpool.k12.ny.us/departments/athletics/calenda
 r/6625429/open-swim-10-12-24
DTSTART:20241012T200000Z
DTEND:20241012T220000Z
END:VEVENT
END:VCALENDAR
