BEGIN:VCALENDAR
VERSION:2.0
PRODID:SchoolNow
CALSCALE:GREGORIAN
BEGIN:VEVENT
UID:94f15a18-7523-11ef-a0ba-0a58a9feac02
DTSTAMP:20240917T192106Z
SUMMARY:Open Swim (10-17-24)
URL;VALUE=URI:https://www.liverpool.k12.ny.us/departments/athletics/calenda
 r/6625430/open-swim-10-17-24
DTSTART:20241017T224500Z
DTEND:20241018T004500Z
END:VEVENT
END:VCALENDAR
