BEGIN:VCALENDAR
VERSION:2.0
PRODID:SchoolNow
CALSCALE:GREGORIAN
BEGIN:VEVENT
UID:aa04645e-7523-11ef-85c4-0a58a9feac02
DTSTAMP:20240917T192119Z
SUMMARY:Open Swim (10-19-24)
URL;VALUE=URI:https://www.liverpool.k12.ny.us/departments/athletics/calenda
 r/6625431/open-swim-10-19-24
DTSTART:20241019T200000Z
DTEND:20241019T220000Z
END:VEVENT
END:VCALENDAR
