BEGIN:VCALENDAR
VERSION:2.0
PRODID:SchoolNow
CALSCALE:GREGORIAN
BEGIN:VEVENT
UID:c4225a94-7523-11ef-a235-0afffa95cd2d
DTSTAMP:20240917T192132Z
SUMMARY:Open Swim (10-24-24)
URL;VALUE=URI:https://www.liverpool.k12.ny.us/departments/athletics/calenda
 r/6625433/open-swim-10-24-24
DTSTART:20241024T224500Z
DTEND:20241025T004500Z
END:VEVENT
END:VCALENDAR
