BEGIN:VCALENDAR
VERSION:2.0
PRODID:SchoolNow
CALSCALE:GREGORIAN
BEGIN:VEVENT
UID:d3fe3938-7523-11ef-a89b-0a58a9feac02
DTSTAMP:20240917T192145Z
SUMMARY:Open Swim (10-26-24)
URL;VALUE=URI:https://www.liverpool.k12.ny.us/departments/athletics/calenda
 r/6625434/open-swim-10-26-24
DTSTART:20241026T200000Z
DTEND:20241026T220000Z
END:VEVENT
END:VCALENDAR
