BEGIN:VCALENDAR
VERSION:2.0
PRODID:SchoolNow
CALSCALE:GREGORIAN
BEGIN:VEVENT
UID:9a92916a-752a-11ef-82ab-0a58a9feac02
DTSTAMP:20240917T192531Z
SUMMARY:Open Swim (11-2-24)
URL;VALUE=URI:https://www.liverpool.k12.ny.us/departments/athletics/calenda
 r/6628169/open-swim-11-2-24
DTSTART:20241102T200000Z
DTEND:20241102T220000Z
END:VEVENT
END:VCALENDAR
