BEGIN:VCALENDAR
VERSION:2.0
PRODID:SchoolNow
CALSCALE:GREGORIAN
BEGIN:VEVENT
UID:b58d11b6-752a-11ef-94e3-0e3933c1085d
DTSTAMP:20240917T192616Z
SUMMARY:Open Swim (11-7-24)
URL;VALUE=URI:https://www.liverpool.k12.ny.us/departments/athletics/calenda
 r/6628170/open-swim-11-7-24
DTSTART:20241107T234500Z
DTEND:20241108T014500Z
END:VEVENT
END:VCALENDAR
