BEGIN:VCALENDAR
VERSION:2.0
PRODID:SchoolNow
CALSCALE:GREGORIAN
BEGIN:VEVENT
UID:c7f7323c-752a-11ef-a493-023e372d10e3
DTSTAMP:20240917T192647Z
SUMMARY:Open Swim (11-9-24)
URL;VALUE=URI:https://www.liverpool.k12.ny.us/departments/athletics/calenda
 r/6628171/open-swim-11-9-24
DTSTART:20241109T210000Z
DTEND:20241109T230000Z
END:VEVENT
END:VCALENDAR
