BEGIN:VCALENDAR
VERSION:2.0
PRODID:SchoolNow
CALSCALE:GREGORIAN
BEGIN:VEVENT
UID:e0659a5c-752a-11ef-97f2-0a58a9feac02
DTSTAMP:20240917T192728Z
SUMMARY:Open Swim (11-14-24)
URL;VALUE=URI:https://www.liverpool.k12.ny.us/departments/athletics/calenda
 r/6628172/open-swim-11-14-24
DTSTART:20241114T234500Z
DTEND:20241115T014500Z
END:VEVENT
END:VCALENDAR
