BEGIN:VCALENDAR
VERSION:2.0
PRODID:SchoolNow
CALSCALE:GREGORIAN
BEGIN:VEVENT
UID:f4df8736-752a-11ef-9bc4-0ef38c18759d
DTSTAMP:20240917T192802Z
SUMMARY:Open Swim (11-16-24)
URL;VALUE=URI:https://www.liverpool.k12.ny.us/departments/athletics/calenda
 r/6628173/open-swim-11-16-24
DTSTART:20241116T210000Z
DTEND:20241116T230000Z
END:VEVENT
END:VCALENDAR
