BEGIN:VCALENDAR
VERSION:2.0
PRODID:SchoolNow
CALSCALE:GREGORIAN
BEGIN:VEVENT
UID:0a65e7f8-752b-11ef-bed4-0a58a9feac02
DTSTAMP:20240917T192839Z
SUMMARY:Open Swim (11-21-24)
URL;VALUE=URI:https://www.liverpool.k12.ny.us/departments/athletics/calenda
 r/6628174/open-swim-11-21-24
DTSTART:20241121T234500Z
DTEND:20241122T014500Z
END:VEVENT
END:VCALENDAR
