BEGIN:VCALENDAR
VERSION:2.0
PRODID:SchoolNow
CALSCALE:GREGORIAN
BEGIN:VEVENT
UID:1cb23704-752b-11ef-bfd1-0a58a9feac02
DTSTAMP:20240917T192909Z
SUMMARY:Open Swim (11-23-24)
URL;VALUE=URI:https://www.liverpool.k12.ny.us/departments/athletics/calenda
 r/6628175/open-swim-11-23-24
DTSTART:20241123T210000Z
DTEND:20241123T230000Z
END:VEVENT
END:VCALENDAR
