BEGIN:VCALENDAR
VERSION:2.0
PRODID:SchoolNow
CALSCALE:GREGORIAN
BEGIN:VEVENT
UID:57b7fff4-752c-11ef-9e5f-0299ca2b52a1
DTSTAMP:20241205T190426Z
SUMMARY:CANCELED DUE TO WEATHER: Open Swim (12-5-24)
URL;VALUE=URI:https://www.liverpool.k12.ny.us/departments/athletics/calenda
 r/6628177/open-swim-12-5-24
DTSTART:20241205T234500Z
DTEND:20241206T014500Z
END:VEVENT
END:VCALENDAR
