BEGIN:VCALENDAR
VERSION:2.0
PRODID:SchoolNow
CALSCALE:GREGORIAN
BEGIN:VEVENT
UID:672d395e-752c-11ef-9dc5-0a58a9feac02
DTSTAMP:20240917T193824Z
SUMMARY:Open Swim (12-7-24)
URL;VALUE=URI:https://www.liverpool.k12.ny.us/departments/athletics/calenda
 r/6628180/open-swim-12-7-24
DTSTART:20241207T210000Z
DTEND:20241207T230000Z
END:VEVENT
END:VCALENDAR
