BEGIN:VCALENDAR
VERSION:2.0
PRODID:SchoolNow
CALSCALE:GREGORIAN
BEGIN:VEVENT
UID:7d0d403e-752c-11ef-bfe6-023e372d10e3
DTSTAMP:20240917T193900Z
SUMMARY:Open Swim (12-12-24)
URL;VALUE=URI:https://www.liverpool.k12.ny.us/departments/athletics/calenda
 r/6628182/open-swim-12-12-24
DTSTART:20241212T234500Z
DTEND:20241213T014500Z
END:VEVENT
END:VCALENDAR
