BEGIN:VCALENDAR
VERSION:2.0
PRODID:SchoolNow
CALSCALE:GREGORIAN
BEGIN:VEVENT
UID:935ec812-752c-11ef-8973-0a58a9feac02
DTSTAMP:20240917T193938Z
SUMMARY:Open Swim (12-14-24)
URL;VALUE=URI:https://www.liverpool.k12.ny.us/departments/athletics/calenda
 r/6628185/open-swim-12-14-24
DTSTART:20241214T210000Z
DTEND:20241214T230000Z
END:VEVENT
END:VCALENDAR
