BEGIN:VCALENDAR
VERSION:2.0
PRODID:SchoolNow
CALSCALE:GREGORIAN
BEGIN:VEVENT
UID:b4ab8280-752c-11ef-b51e-02b1f3491ff1
DTSTAMP:20240917T194034Z
SUMMARY:Open Swim (12-19-24)
URL;VALUE=URI:https://www.liverpool.k12.ny.us/departments/athletics/calenda
 r/6628189/open-swim-12-19-24
DTSTART:20241219T234500Z
DTEND:20241220T014500Z
END:VEVENT
END:VCALENDAR
