BEGIN:VCALENDAR
VERSION:2.0
PRODID:SchoolNow
CALSCALE:GREGORIAN
BEGIN:VEVENT
UID:d9af0c28-752c-11ef-a665-0e3519313c63
DTSTAMP:20250109T143558Z
SUMMARY:CANCELED: Open Swim (1-9-25)
URL;VALUE=URI:https://www.liverpool.k12.ny.us/departments/athletics/calenda
 r/6628193/open-swim-1-9-25
DTSTART:20250109T234500Z
DTEND:20250110T014500Z
END:VEVENT
END:VCALENDAR
