BEGIN:VCALENDAR
VERSION:2.0
PRODID:SchoolNow
CALSCALE:GREGORIAN
BEGIN:VEVENT
UID:ee7f9848-752c-11ef-a7c7-0a58a9feac02
DTSTAMP:20240917T194211Z
SUMMARY:Open Swim (1-11-25)
URL;VALUE=URI:https://www.liverpool.k12.ny.us/departments/athletics/calenda
 r/6628195/open-swim-1-11-25
DTSTART:20250111T210000Z
DTEND:20250111T230000Z
END:VEVENT
END:VCALENDAR
