BEGIN:VCALENDAR
VERSION:2.0
PRODID:SchoolNow
CALSCALE:GREGORIAN
BEGIN:VEVENT
UID:0ad235c8-752d-11ef-aadb-0e3c1a409f99
DTSTAMP:20240917T194258Z
SUMMARY:Open Swim (1-16-25)
URL;VALUE=URI:https://www.liverpool.k12.ny.us/departments/athletics/calenda
 r/6628199/open-swim-1-16-25
DTSTART:20250116T234500Z
DTEND:20250117T014500Z
END:VEVENT
END:VCALENDAR
