BEGIN:VCALENDAR
VERSION:2.0
PRODID:SchoolNow
CALSCALE:GREGORIAN
BEGIN:VEVENT
UID:1a9cceaa-752d-11ef-ba6f-0a58a9feac02
DTSTAMP:20240917T194325Z
SUMMARY:Open Swim (1-18-25)
URL;VALUE=URI:https://www.liverpool.k12.ny.us/departments/athletics/calenda
 r/6628201/open-swim-1-18-25
DTSTART:20250118T210000Z
DTEND:20250118T230000Z
END:VEVENT
END:VCALENDAR
