BEGIN:VCALENDAR
VERSION:2.0
PRODID:SchoolNow
CALSCALE:GREGORIAN
BEGIN:VEVENT
UID:3c8c25d8-752d-11ef-823c-0299ca2b52a1
DTSTAMP:20240917T194422Z
SUMMARY:Open Swim (1-23-25)
URL;VALUE=URI:https://www.liverpool.k12.ny.us/departments/athletics/calenda
 r/6628204/open-swim-1-23-25
DTSTART:20250123T234500Z
DTEND:20250124T014500Z
END:VEVENT
END:VCALENDAR
