BEGIN:VCALENDAR
VERSION:2.0
PRODID:SchoolNow
CALSCALE:GREGORIAN
BEGIN:VEVENT
UID:503825aa-752d-11ef-8e81-0e3933c1085d
DTSTAMP:20240917T194455Z
SUMMARY:Open Swim (1-25-25)
URL;VALUE=URI:https://www.liverpool.k12.ny.us/departments/athletics/calenda
 r/6628207/open-swim-1-25-25
DTSTART:20250125T210000Z
DTEND:20250125T230000Z
END:VEVENT
END:VCALENDAR
