BEGIN:VCALENDAR
VERSION:2.0
PRODID:SchoolNow
CALSCALE:GREGORIAN
BEGIN:VEVENT
UID:61d274be-752d-11ef-a316-0affc14b4c77
DTSTAMP:20240917T194524Z
SUMMARY:Open Swim (1-30-25)
URL;VALUE=URI:https://www.liverpool.k12.ny.us/departments/athletics/calenda
 r/6628209/open-swim-1-30-25
DTSTART:20250130T234500Z
DTEND:20250131T014500Z
END:VEVENT
END:VCALENDAR
