BEGIN:VCALENDAR
VERSION:2.0
PRODID:SchoolNow
CALSCALE:GREGORIAN
BEGIN:VEVENT
UID:d6a3184a-b1ad-11ef-9604-0a58a9feac02
DTSTAMP:20250206T153201Z
SUMMARY:CANCELED: Open Swim (2-6-25)
URL;VALUE=URI:https://www.liverpool.k12.ny.us/departments/athletics/calenda
 r/7115924/open-swim-2-6-25
DTSTART:20250206T234500Z
DTEND:20250207T014500Z
END:VEVENT
END:VCALENDAR
