BEGIN:VCALENDAR
VERSION:2.0
PRODID:SchoolNow
CALSCALE:GREGORIAN
BEGIN:VEVENT
UID:e0289df2-b1b4-11ef-870c-0a58a9feac02
DTSTAMP:20241203T202628Z
SUMMARY:Open Swim (2-8-25)
URL;VALUE=URI:https://www.liverpool.k12.ny.us/departments/athletics/calenda
 r/7116993/open-swim-2-8-25
DTSTART:20250208T210000Z
DTEND:20250208T230000Z
END:VEVENT
END:VCALENDAR
