BEGIN:VCALENDAR
VERSION:2.0
PRODID:SchoolNow
CALSCALE:GREGORIAN
BEGIN:VEVENT
UID:f6b05218-b1b4-11ef-a5fb-0affd136135b
DTSTAMP:20241203T202706Z
SUMMARY:Open Swim (2-13-25)
URL;VALUE=URI:https://www.liverpool.k12.ny.us/departments/athletics/calenda
 r/7117117/open-swim-2-13-25
DTSTART:20250213T234500Z
DTEND:20250214T014500Z
END:VEVENT
END:VCALENDAR
