BEGIN:VCALENDAR
VERSION:2.0
PRODID:SchoolNow
CALSCALE:GREGORIAN
BEGIN:VEVENT
UID:9bec14c2-b26b-11ef-8d85-0a58a9feac02
DTSTAMP:20250217T132527Z
SUMMARY:CANCELED: Open Swim (2-17-25)
URL;VALUE=URI:https://www.liverpool.k12.ny.us/departments/athletics/calenda
 r/7120775/open-swim-2-17-24
DTSTART:20250217T150000Z
DTEND:20250217T170000Z
END:VEVENT
END:VCALENDAR
