BEGIN:VCALENDAR
VERSION:2.0
PRODID:SchoolNow
CALSCALE:GREGORIAN
BEGIN:VEVENT
UID:b0aed480-b26b-11ef-9dd1-0a58a9feac02
DTSTAMP:20241204T183545Z
SUMMARY:Open Swim (2-18-25)
URL;VALUE=URI:https://www.liverpool.k12.ny.us/departments/athletics/calenda
 r/7120776/open-swim-2-18-24
DTSTART:20250218T150000Z
DTEND:20250218T170000Z
END:VEVENT
END:VCALENDAR
