BEGIN:VCALENDAR
VERSION:2.0
PRODID:SchoolNow
CALSCALE:GREGORIAN
BEGIN:VEVENT
UID:c5b59512-b26b-11ef-8e98-0affe4db5785
DTSTAMP:20241204T183608Z
SUMMARY:Open Swim (2-19-25)
URL;VALUE=URI:https://www.liverpool.k12.ny.us/departments/athletics/calenda
 r/7120777/open-swim-2-19-24
DTSTART:20250219T150000Z
DTEND:20250219T170000Z
END:VEVENT
END:VCALENDAR
