BEGIN:VCALENDAR
VERSION:2.0
PRODID:SchoolNow
CALSCALE:GREGORIAN
BEGIN:VEVENT
UID:dbefbaec-b26b-11ef-9305-0e67d7892de7
DTSTAMP:20241204T183626Z
SUMMARY:Open Swim (2-20-25)
URL;VALUE=URI:https://www.liverpool.k12.ny.us/departments/athletics/calenda
 r/7120778/open-swim-2-20-24
DTSTART:20250220T150000Z
DTEND:20250220T170000Z
END:VEVENT
END:VCALENDAR
