BEGIN:VCALENDAR
VERSION:2.0
PRODID:SchoolNow
CALSCALE:GREGORIAN
BEGIN:VEVENT
UID:0b13e1fe-b26c-11ef-8ce2-02be1564d943
DTSTAMP:20241204T183640Z
SUMMARY:Open Swim (2-27-25)
URL;VALUE=URI:https://www.liverpool.k12.ny.us/departments/athletics/calenda
 r/7120779/open-swim-2-27-24
DTSTART:20250227T234500Z
DTEND:20250228T014500Z
END:VEVENT
END:VCALENDAR
