BEGIN:VCALENDAR
VERSION:2.0
PRODID:SchoolNow
CALSCALE:GREGORIAN
BEGIN:VEVENT
UID:6636f648-b26c-11ef-9822-02cdc17840c5
DTSTAMP:20241204T183655Z
SUMMARY:Open Swim (3-6-25)
URL;VALUE=URI:https://www.liverpool.k12.ny.us/departments/athletics/calenda
 r/7120780/open-swim-3-6-24
DTSTART:20250306T234500Z
DTEND:20250307T014500Z
END:VEVENT
END:VCALENDAR
