BEGIN:VCALENDAR
VERSION:2.0
PRODID:SchoolNow
CALSCALE:GREGORIAN
BEGIN:VEVENT
UID:85e35220-b26c-11ef-bda0-0a58a9feac02
DTSTAMP:20241204T183709Z
SUMMARY:Open Swim (3-8-25)
URL;VALUE=URI:https://www.liverpool.k12.ny.us/departments/athletics/calenda
 r/7120781/open-swim-3-8-24
DTSTART:20250308T210000Z
DTEND:20250308T230000Z
END:VEVENT
END:VCALENDAR
