BEGIN:VCALENDAR
VERSION:2.0
PRODID:SchoolNow
CALSCALE:GREGORIAN
BEGIN:VEVENT
UID:e466340c-b26c-11ef-afe8-0e67d7892de7
DTSTAMP:20241204T183725Z
SUMMARY:Open Swim (3-13-25)
URL;VALUE=URI:https://www.liverpool.k12.ny.us/departments/athletics/calenda
 r/7120782/open-swim-3-13-24
DTSTART:20250313T224500Z
DTEND:20250314T004500Z
END:VEVENT
END:VCALENDAR
