BEGIN:VCALENDAR
VERSION:2.0
PRODID:SchoolNow
CALSCALE:GREGORIAN
BEGIN:VEVENT
UID:fce046c6-b26c-11ef-8924-0ec4f989a31d
DTSTAMP:20241204T183739Z
SUMMARY:Open Swim (3-15-25)
URL;VALUE=URI:https://www.liverpool.k12.ny.us/departments/athletics/calenda
 r/7120783/open-swim-3-15-24
DTSTART:20250315T200000Z
DTEND:20250315T220000Z
END:VEVENT
END:VCALENDAR
