BEGIN:VCALENDAR
VERSION:2.0
PRODID:SchoolNow
CALSCALE:GREGORIAN
BEGIN:VEVENT
UID:452868f0-b26d-11ef-bf89-0ee665cad799
DTSTAMP:20241204T183751Z
SUMMARY:Open Swim (3-20-25)
URL;VALUE=URI:https://www.liverpool.k12.ny.us/departments/athletics/calenda
 r/7120784/open-swim-3-20-24
DTSTART:20250320T224500Z
DTEND:20250321T004500Z
END:VEVENT
END:VCALENDAR
