BEGIN:VCALENDAR
VERSION:2.0
PRODID:SchoolNow
CALSCALE:GREGORIAN
BEGIN:VEVENT
UID:5f72fe8c-b26d-11ef-92fc-0a58a9feac02
DTSTAMP:20241204T183816Z
SUMMARY:Open Swim (3-22-25)
URL;VALUE=URI:https://www.liverpool.k12.ny.us/departments/athletics/calenda
 r/7120785/open-swim-3-22-24
DTSTART:20250322T200000Z
DTEND:20250322T220000Z
END:VEVENT
END:VCALENDAR
