BEGIN:VCALENDAR
VERSION:2.0
PRODID:SchoolNow
CALSCALE:GREGORIAN
BEGIN:VEVENT
UID:858606dc-b26d-11ef-b310-0ec4f989a31d
DTSTAMP:20241204T183830Z
SUMMARY:Open Swim (3-27-25)
URL;VALUE=URI:https://www.liverpool.k12.ny.us/departments/athletics/calenda
 r/7120786/open-swim-3-27-24
DTSTART:20250327T224500Z
DTEND:20250328T004500Z
END:VEVENT
END:VCALENDAR
