BEGIN:VCALENDAR
VERSION:2.0
PRODID:SchoolNow
CALSCALE:GREGORIAN
BEGIN:VEVENT
UID:a8e3a210-b26d-11ef-a603-0a58a9feac02
DTSTAMP:20241204T183900Z
SUMMARY:Open Swim (3-29-25)
URL;VALUE=URI:https://www.liverpool.k12.ny.us/departments/athletics/calenda
 r/7120787/open-swim-3-29-24
DTSTART:20250329T200000Z
DTEND:20250329T220000Z
END:VEVENT
END:VCALENDAR
