BEGIN:VCALENDAR
VERSION:2.0
PRODID:SchoolNow
CALSCALE:GREGORIAN
BEGIN:VEVENT
UID:2899b494-b26f-11ef-a952-0a58a9feac02
DTSTAMP:20241204T183956Z
SUMMARY:Open Swim (4-3-25)
URL;VALUE=URI:https://www.liverpool.k12.ny.us/departments/athletics/calenda
 r/7120792/open-swim-4-3-25
DTSTART:20250403T224500Z
DTEND:20250404T004500Z
END:VEVENT
END:VCALENDAR
