BEGIN:VCALENDAR
VERSION:2.0
PRODID:SchoolNow
CALSCALE:GREGORIAN
BEGIN:VEVENT
UID:4484beb0-b26f-11ef-ac6b-0a58a9feac02
DTSTAMP:20241204T184043Z
SUMMARY:Open Swim (4-5-25)
URL;VALUE=URI:https://www.liverpool.k12.ny.us/departments/athletics/calenda
 r/7120793/open-swim-4-5-25
DTSTART:20250405T200000Z
DTEND:20250405T220000Z
END:VEVENT
END:VCALENDAR
