BEGIN:VCALENDAR
VERSION:2.0
PRODID:SchoolNow
CALSCALE:GREGORIAN
BEGIN:VEVENT
UID:6ae02e0a-b26f-11ef-973e-02be1564d943
DTSTAMP:20241204T184147Z
SUMMARY:Open Swim (4-10-25)
URL;VALUE=URI:https://www.liverpool.k12.ny.us/departments/athletics/calenda
 r/7120794/open-swim-4-10-25
DTSTART:20250410T224500Z
DTEND:20250411T004500Z
END:VEVENT
END:VCALENDAR
