BEGIN:VCALENDAR
VERSION:2.0
PRODID:SchoolNow
CALSCALE:GREGORIAN
BEGIN:VEVENT
UID:88888704-b26f-11ef-b600-0affe4db5785
DTSTAMP:20241204T184237Z
SUMMARY:Open Swim (4-24-25)
URL;VALUE=URI:https://www.liverpool.k12.ny.us/departments/athletics/calenda
 r/7120795/open-swim-4-24-25
DTSTART:20250424T224500Z
DTEND:20250425T004500Z
END:VEVENT
END:VCALENDAR
