BEGIN:VCALENDAR
VERSION:2.0
PRODID:SchoolNow
CALSCALE:GREGORIAN
BEGIN:VEVENT
UID:a432e4ae-b26f-11ef-aeee-0a58a9feac02
DTSTAMP:20241204T184323Z
SUMMARY:Open Swim (4-26-25)
URL;VALUE=URI:https://www.liverpool.k12.ny.us/departments/athletics/calenda
 r/7120796/open-swim-4-26-25
DTSTART:20250426T200000Z
DTEND:20250426T220000Z
END:VEVENT
END:VCALENDAR
